BEGIN:VCALENDAR
VERSION:2.0
PRODID:-//Dans Tech Stuff - ECPv6.15.17.1//NONSGML v1.0//EN
CALSCALE:GREGORIAN
METHOD:PUBLISH
X-WR-CALNAME:Dans Tech Stuff
X-ORIGINAL-URL:https://danstechstuff.com
X-WR-CALDESC:Events for Dans Tech Stuff
REFRESH-INTERVAL;VALUE=DURATION:PT1H
X-Robots-Tag:noindex
X-PUBLISHED-TTL:PT1H
BEGIN:VTIMEZONE
TZID:America/Chicago
BEGIN:DAYLIGHT
TZOFFSETFROM:-0600
TZOFFSETTO:-0500
TZNAME:CDT
DTSTART:20250309T080000
END:DAYLIGHT
BEGIN:STANDARD
TZOFFSETFROM:-0500
TZOFFSETTO:-0600
TZNAME:CST
DTSTART:20251102T070000
END:STANDARD
BEGIN:DAYLIGHT
TZOFFSETFROM:-0600
TZOFFSETTO:-0500
TZNAME:CDT
DTSTART:20260308T080000
END:DAYLIGHT
BEGIN:STANDARD
TZOFFSETFROM:-0500
TZOFFSETTO:-0600
TZNAME:CST
DTSTART:20261101T070000
END:STANDARD
BEGIN:DAYLIGHT
TZOFFSETFROM:-0600
TZOFFSETTO:-0500
TZNAME:CDT
DTSTART:20270314T080000
END:DAYLIGHT
BEGIN:STANDARD
TZOFFSETFROM:-0500
TZOFFSETTO:-0600
TZNAME:CST
DTSTART:20271107T070000
END:STANDARD
END:VTIMEZONE
BEGIN:VEVENT
DTSTART;TZID=America/Chicago:20260516T094500
DTEND;TZID=America/Chicago:20260516T170000
DTSTAMP:20260420T074730
CREATED:20260228T204219Z
LAST-MODIFIED:20260417T161003Z
UID:2402-1778924700-1778950800@danstechstuff.com
SUMMARY:2026 Ride 4 Team Abby
DESCRIPTION:
URL:https://danstechstuff.com/?tribe_events=2026-ride-4-team-abby
LOCATION:St. Bonifacius Community Center\, 8535 Kennedy Memorial Drive\, St Bonifacius\, MN\, 55375\, United States
END:VEVENT
END:VCALENDAR